BEGIN:VCALENDAR
VERSION:2.0
PRODID:-//Küche und Möbel - ECPv5.0.3.1//NONSGML v1.0//EN
CALSCALE:GREGORIAN
METHOD:PUBLISH
X-WR-CALNAME:Küche und Möbel
X-ORIGINAL-URL:https://www.montagen-berlin.de
X-WR-CALDESC:Veranstaltungen im Küche und Möbel
BEGIN:VTIMEZONE
TZID:Europe/Berlin
BEGIN:DAYLIGHT
TZOFFSETFROM:+0100
TZOFFSETTO:+0200
TZNAME:CEST
DTSTART:20260329T010000
END:DAYLIGHT
BEGIN:STANDARD
TZOFFSETFROM:+0200
TZOFFSETTO:+0100
TZNAME:CET
DTSTART:20261025T010000
END:STANDARD
END:VTIMEZONE
BEGIN:VEVENT
DTSTART;VALUE=DATE:20260602
DTEND;VALUE=DATE:20260603
DTSTAMP:20260421T161849
CREATED:20260420T110412Z
LAST-MODIFIED:20260420T110412Z
UID:11180-1780358400-1780444799@www.montagen-berlin.de
SUMMARY:Kölbl ?
DESCRIPTION:Kölbl  \nKochfeld \, dunsthaube umbau  \nMünchen  \n
URL:https://www.montagen-berlin.de/kalender/koelbl/
END:VEVENT
END:VCALENDAR